BEGIN:VCALENDAR
VERSION:2.0
PRODID:-//hessian.AI - ECPv6.15.18//NONSGML v1.0//EN
CALSCALE:GREGORIAN
METHOD:PUBLISH
X-WR-CALNAME:hessian.AI
X-ORIGINAL-URL:https://hessian.ai/de/
X-WR-CALDESC:Veranstaltungen für hessian.AI
REFRESH-INTERVAL;VALUE=DURATION:PT1H
X-Robots-Tag:noindex
X-PUBLISHED-TTL:PT1H
BEGIN:VTIMEZONE
TZID:Europe/Berlin
BEGIN:DAYLIGHT
TZOFFSETFROM:+0100
TZOFFSETTO:+0200
TZNAME:CEST
DTSTART:20240331T010000
END:DAYLIGHT
BEGIN:STANDARD
TZOFFSETFROM:+0200
TZOFFSETTO:+0100
TZNAME:CET
DTSTART:20241027T010000
END:STANDARD
BEGIN:DAYLIGHT
TZOFFSETFROM:+0100
TZOFFSETTO:+0200
TZNAME:CEST
DTSTART:20250330T010000
END:DAYLIGHT
BEGIN:STANDARD
TZOFFSETFROM:+0200
TZOFFSETTO:+0100
TZNAME:CET
DTSTART:20251026T010000
END:STANDARD
BEGIN:DAYLIGHT
TZOFFSETFROM:+0100
TZOFFSETTO:+0200
TZNAME:CEST
DTSTART:20260329T010000
END:DAYLIGHT
BEGIN:STANDARD
TZOFFSETFROM:+0200
TZOFFSETTO:+0100
TZNAME:CET
DTSTART:20261025T010000
END:STANDARD
END:VTIMEZONE
BEGIN:VEVENT
DTSTART;VALUE=DATE:20251202
DTEND;VALUE=DATE:20251205
DTSTAMP:20260420T001208
CREATED:20250801T103314Z
LAST-MODIFIED:20250801T103626Z
UID:16943-1764633600-1764892799@hessian.ai
SUMMARY:AI@HPI Conference | meet hessian.AISC
DESCRIPTION:Das Hasso-Plattner-Institut (HPI) bündelt vom 2. bis 4. Dezember 2025 internationale Expertise\, um Europas technologische Unabhängigkeit im Bereich Künstliche Intelligenz zu gestalten. \nAm 2. und 3. Dezember rückt die AI@HPI Conference 2025 unter dem Leitmotiv „Shaping AI Sovereignty“ Fragen zu Infrastruktur\, Regulierung und verantwortungsvoller Innovation in den Mittelpunkt. Erwartet werden Bundesdigitalminister Dr. Karsten Wildberger\, EU-Abgeordneter Dr. Christian Ehler\, Jonas Andrulis (Aleph Alpha) und viele weitere Sprecher:innen. \nAm 3. und 4. Dezember findet als Teil der AI@HPI Conference 2025 die Konferenz der Deutschen KI-Servicezentren (KonKIS) statt\, bei der aktuelle Projektergebnisse und praktische Unterstützungsangebote für Wissenschaft\, die öffentliche Verwaltung und Unternehmen vorgestellt und diskutiert werden. \nWarum teilnehmen? \n\nDrei Tage Keynotes\, Panels\, Workshops und Networking rund um souveräne\, werteorientierte KI\nAustausch mit Spitzenvertreter:innen aus Wissenschaft\, Wirtschaft und Politik\nPraxisorientierte Deep‑Dive‑Sessions zu Dateninfrastruktur\, Machine Learning und Responsible AI\n\nTickets & Anmeldung \nTeilnahme­pakete sind ab 190 € (Ticket für 2. und 3. Dezember sowie 3. und 4 Dezember) bzw. 300 € (Ticket für alle drei Tage) verfügbar. Die Plätze sind begrenzt – sichern Sie sich jetzt Ihr Ticket.
URL:https://hessian.ai/de/event/aihpi-conference-meet-hessian-aisc/
LOCATION:Hasso-Plattner-Institut für Digital Engineering gGmbH\, Prof.-Dr.-Helmert-Str. 2-3\, Potsdam\, 14482\, Germany
END:VEVENT
END:VCALENDAR