BEGIN:VCALENDAR
VERSION:2.0
PRODID:-//hessian.AI - ECPv6.15.18//NONSGML v1.0//EN
CALSCALE:GREGORIAN
METHOD:PUBLISH
X-WR-CALNAME:hessian.AI
X-ORIGINAL-URL:https://hessian.ai/de/
X-WR-CALDESC:Veranstaltungen für hessian.AI
REFRESH-INTERVAL;VALUE=DURATION:PT1H
X-Robots-Tag:noindex
X-PUBLISHED-TTL:PT1H
BEGIN:VTIMEZONE
TZID:Europe/Berlin
BEGIN:DAYLIGHT
TZOFFSETFROM:+0100
TZOFFSETTO:+0200
TZNAME:CEST
DTSTART:20240331T010000
END:DAYLIGHT
BEGIN:STANDARD
TZOFFSETFROM:+0200
TZOFFSETTO:+0100
TZNAME:CET
DTSTART:20241027T010000
END:STANDARD
BEGIN:DAYLIGHT
TZOFFSETFROM:+0100
TZOFFSETTO:+0200
TZNAME:CEST
DTSTART:20250330T010000
END:DAYLIGHT
BEGIN:STANDARD
TZOFFSETFROM:+0200
TZOFFSETTO:+0100
TZNAME:CET
DTSTART:20251026T010000
END:STANDARD
BEGIN:DAYLIGHT
TZOFFSETFROM:+0100
TZOFFSETTO:+0200
TZNAME:CEST
DTSTART:20260329T010000
END:DAYLIGHT
BEGIN:STANDARD
TZOFFSETFROM:+0200
TZOFFSETTO:+0100
TZNAME:CET
DTSTART:20261025T010000
END:STANDARD
END:VTIMEZONE
BEGIN:VEVENT
DTSTART;TZID=Europe/Berlin:20250923T110000
DTEND;TZID=Europe/Berlin:20250923T170000
DTSTAMP:20260419T204816
CREATED:20250801T111056Z
LAST-MODIFIED:20250801T111136Z
UID:16958-1758625200-1758646800@hessian.ai
SUMMARY:ATHENE Zukunftsforum "KI und Cybersicherheit"
DESCRIPTION:Die digitale Revolution verändert unsere Lebensweise\, ähnlich grundlegend wie zuvor die industrielle Revolution. Die KI hat sich innerhalb kürzester Zeit von einer Nischentechnologie der Informatik zur zentralen Schlüsseltechnologie der Digitalisierung entwickelt. Cybersicherheit wiederum ist eine der Grundvoraussetzungen verantwortungsvoller Digitalisierung. Beide Tech­no­logien\, KI und Cybersicherheit\, hängen eng zusammen. KI schafft neue Sicherheitsrisiken – von automatisierten Angriffen und Betrug bis zu Deep­fakes – bietet aber auch neue Chancen für den Kampf gegen Cybercrime\, kognitive Angriffe und Desinformation. \nWie können wir KI verantwortungsvoll und sicher gestalten? Welche politischen und technologischen Rahmen­bedingungen braucht eine resiliente digitale Gesellschaft? Welche Rolle sollten Politik\, Industrie und Forschung übernehmen\, um KI für uns alle sicher und praktikabel zu machen? Diese Fragen stehen im Zentrum unseres Zukunftsforums. \nExpertinnen und Experten aus Politik\, Industrie und Forschung treten in einen inter­dis­zi­pli­nären Dialog zu KI und Cybersicherheit – seien Sie dabei! \nDie Teilnahme ist kostenfrei\, eine Anmeldung ist erforderlich. \nDie Veranstaltung wird organisiert von ATHENE\, unterstützt durch hessian.AI und das DFKI.
URL:https://hessian.ai/de/event/athene-zukunftsforum-ki-und-cybersicherheit/
LOCATION:Jügelhaus\, Mertonstraße 17\, Frankfurt\, 60325\, Germany
ATTACH;FMTTYPE=image/jpeg:https://hessian.ai/wp-content/uploads/2025/08/Flyer_ATHENE_Zukunftsforum_KI-Cybersicherheit.jpg
END:VEVENT
END:VCALENDAR