BEGIN:VCALENDAR
VERSION:2.0
PRODID:-//hessian.AI - ECPv6.15.18//NONSGML v1.0//EN
CALSCALE:GREGORIAN
METHOD:PUBLISH
X-WR-CALNAME:hessian.AI
X-ORIGINAL-URL:https://hessian.ai/de/
X-WR-CALDESC:Veranstaltungen für hessian.AI
REFRESH-INTERVAL;VALUE=DURATION:PT1H
X-Robots-Tag:noindex
X-PUBLISHED-TTL:PT1H
BEGIN:VTIMEZONE
TZID:Europe/Berlin
BEGIN:DAYLIGHT
TZOFFSETFROM:+0100
TZOFFSETTO:+0200
TZNAME:CEST
DTSTART:20240331T010000
END:DAYLIGHT
BEGIN:STANDARD
TZOFFSETFROM:+0200
TZOFFSETTO:+0100
TZNAME:CET
DTSTART:20241027T010000
END:STANDARD
BEGIN:DAYLIGHT
TZOFFSETFROM:+0100
TZOFFSETTO:+0200
TZNAME:CEST
DTSTART:20250330T010000
END:DAYLIGHT
BEGIN:STANDARD
TZOFFSETFROM:+0200
TZOFFSETTO:+0100
TZNAME:CET
DTSTART:20251026T010000
END:STANDARD
BEGIN:DAYLIGHT
TZOFFSETFROM:+0100
TZOFFSETTO:+0200
TZNAME:CEST
DTSTART:20260329T010000
END:DAYLIGHT
BEGIN:STANDARD
TZOFFSETFROM:+0200
TZOFFSETTO:+0100
TZNAME:CET
DTSTART:20261025T010000
END:STANDARD
END:VTIMEZONE
BEGIN:VEVENT
DTSTART;TZID=Europe/Berlin:20251030T130000
DTEND;TZID=Europe/Berlin:20251030T203000
DTSTAMP:20260420T000931
CREATED:20250923T211232Z
LAST-MODIFIED:20250923T212207Z
UID:17243-1761829200-1761856200@hessian.ai
SUMMARY:InnoDay 2025
DESCRIPTION:Am 30. Oktober 2025 wird das Darmstadtium zum Treffpunkt für Start-up-Enthusiast:innen\, Investor:innen und Innovationsbegeisterte. Beim INNODAY25 – Start-up & Innovation Day treffen wissenschaftliche Exzellenz und Gründerspirit aufeinander. Gemeinsam mit dem Innovations- und Gründungszentrum HIGHEST bringt die TU Darmstadt über 100 Start-ups\, Deep-Tech-Teams sowie Akteur:innen aus Wissenschaft\, Wirtschaft und Politik zusammen. \nUnter dem Leitmotiv „Innovation Pulse RheinMain“ steht die strategische Bedeutung der Region für Europas Innovationskraft im Fokus. Die Veranstaltung zeigt\, wie eng wissenschaftliche Exzellenz\, unternehmerischer Gründergeist und Kapital zusammenspielen\, um die Technologien von morgen zu schaffen. \nProgramm Highlights\n\n\nKeynote von Dr. Mariana Bozesan\, Co-Founderin von AQAL Capital\, über das Zusammenspiel von Wissenschaft\, Unternehmertum und Investitionen als Treiber für gesellschaftlichen Fortschritt. \n\n\nFinale des TU-Ideenwettbewerbs mit zukunftsweisenden Gründungsideen und Erfindungen von Studierenden und Forschenden. \n\n\nPraxisnahe Workshops\, kompakte Start-up-Pitches und der HIGHEST Live-Podcast. \n\n\nAbschluss mit Dr. Jacob Beautemps (Breaking Lab)\, Wissenschaftsjournalist und YouTuber\, der einen Ausblick auf technologische Trends gibt\, die schon heute das Leben von morgen prägen.
URL:https://hessian.ai/de/event/innoday-2025/
LOCATION:darmstadtium – Wissenschafts- und Kongresszentrum\, Schlossgraben 1\, Darmstadt\, Hessen\, 64283\, Germany
ATTACH;FMTTYPE=image/jpeg:https://hessian.ai/wp-content/uploads/2025/09/Keyvisual-INNODAY25-Prasentation-1.jpg
END:VEVENT
END:VCALENDAR