BEGIN:VCALENDAR
VERSION:2.0
PRODID:-//hessian.AI - ECPv6.15.18//NONSGML v1.0//EN
CALSCALE:GREGORIAN
METHOD:PUBLISH
X-WR-CALNAME:hessian.AI
X-ORIGINAL-URL:https://hessian.ai
X-WR-CALDESC:Events for hessian.AI
REFRESH-INTERVAL;VALUE=DURATION:PT1H
X-Robots-Tag:noindex
X-PUBLISHED-TTL:PT1H
BEGIN:VTIMEZONE
TZID:Europe/Berlin
BEGIN:DAYLIGHT
TZOFFSETFROM:+0100
TZOFFSETTO:+0200
TZNAME:CEST
DTSTART:20250330T010000
END:DAYLIGHT
BEGIN:STANDARD
TZOFFSETFROM:+0200
TZOFFSETTO:+0100
TZNAME:CET
DTSTART:20251026T010000
END:STANDARD
BEGIN:DAYLIGHT
TZOFFSETFROM:+0100
TZOFFSETTO:+0200
TZNAME:CEST
DTSTART:20260329T010000
END:DAYLIGHT
BEGIN:STANDARD
TZOFFSETFROM:+0200
TZOFFSETTO:+0100
TZNAME:CET
DTSTART:20261025T010000
END:STANDARD
BEGIN:DAYLIGHT
TZOFFSETFROM:+0100
TZOFFSETTO:+0200
TZNAME:CEST
DTSTART:20270328T010000
END:DAYLIGHT
BEGIN:STANDARD
TZOFFSETFROM:+0200
TZOFFSETTO:+0100
TZNAME:CET
DTSTART:20271031T010000
END:STANDARD
END:VTIMEZONE
BEGIN:VEVENT
DTSTART;TZID=Europe/Berlin:20260202T190000
DTEND;TZID=Europe/Berlin:20260202T210000
DTSTAMP:20260422T084215
CREATED:20251209T124457Z
LAST-MODIFIED:20251209T125348Z
UID:17574-1770058800-1770066000@hessian.ai
SUMMARY:AI changes everything: humans\, machines\, ethics
DESCRIPTION:An event organized by the Protestant Academy Frankfurt in cooperation with hessian.AI \n  \nLecture and discussion \nLanguage models such as ChatGPT\, learning AI systems\, and highly developed robots make many things seem possible today. However\, less attention is paid to the fact that the AI boom raises fundamental questions about our view of humanity and the interaction between humans and machines: How does artificial intelligence expand our scope of action? What responsibility do we bear when we develop and apply technologies in this area? These questions are particularly relevant in Hesse\, where both AI research projects and companies that use or promote AI are flourishing. Some even refer to it as the “Silicon Valley of Europe.” In our event\, we will contrast this promising view with perspectives from the philosophy of technology and ethics. Researchers from the “hessian.AI” network will provide insights into the current state of AI research\, and a regional start-up will present specific fields of application. Together\, we will engage in an open and critical discussion about the debates that should accompany technological innovations in our region. \nRegister here (Link: KI verändert alles: Mensch\, Maschine\, Ethik – Evangelische Akademie Frankfurt) \n  \nFurther event on this topic on February 16\, 2026: \n(Link: KI und die Zukunft der Arbeitswelt – Evangelische Akademie Frankfurt)
URL:https://hessian.ai/event/ai-changes-everything-humans-machines-ethics/
LOCATION:Evangelische Akademie Frankfurt\, Römerberg 9\, Frankfurt am Main\, 60311\, Germany
ATTACH;FMTTYPE=image/jpeg:https://hessian.ai/wp-content/uploads/2025/12/ki-in-der-arbeitswelt.jpg
END:VEVENT
END:VCALENDAR