BEGIN:VCALENDAR
VERSION:2.0
PRODID:-//hessian.AI - ECPv6.15.18//NONSGML v1.0//EN
CALSCALE:GREGORIAN
METHOD:PUBLISH
X-WR-CALNAME:hessian.AI
X-ORIGINAL-URL:https://hessian.ai
X-WR-CALDESC:Events for hessian.AI
REFRESH-INTERVAL;VALUE=DURATION:PT1H
X-Robots-Tag:noindex
X-PUBLISHED-TTL:PT1H
BEGIN:VTIMEZONE
TZID:Europe/Berlin
BEGIN:DAYLIGHT
TZOFFSETFROM:+0100
TZOFFSETTO:+0200
TZNAME:CEST
DTSTART:20240331T010000
END:DAYLIGHT
BEGIN:STANDARD
TZOFFSETFROM:+0200
TZOFFSETTO:+0100
TZNAME:CET
DTSTART:20241027T010000
END:STANDARD
BEGIN:DAYLIGHT
TZOFFSETFROM:+0100
TZOFFSETTO:+0200
TZNAME:CEST
DTSTART:20250330T010000
END:DAYLIGHT
BEGIN:STANDARD
TZOFFSETFROM:+0200
TZOFFSETTO:+0100
TZNAME:CET
DTSTART:20251026T010000
END:STANDARD
BEGIN:DAYLIGHT
TZOFFSETFROM:+0100
TZOFFSETTO:+0200
TZNAME:CEST
DTSTART:20260329T010000
END:DAYLIGHT
BEGIN:STANDARD
TZOFFSETFROM:+0200
TZOFFSETTO:+0100
TZNAME:CET
DTSTART:20261025T010000
END:STANDARD
END:VTIMEZONE
BEGIN:VEVENT
DTSTART;TZID=Europe/Berlin:20250604T170000
DTEND;TZID=Europe/Berlin:20250604T200000
DTSTAMP:20260420T001017
CREATED:20250528T193256Z
LAST-MODIFIED:20250528T193904Z
UID:16690-1749056400-1749067200@hessian.ai
SUMMARY:Partner Event | foundersXchange Darmstadt – Trends in B2B marketing
DESCRIPTION:In the third fXc of the year\, we will be focussing on the question of how we can make contact with B2B customers. We have organised different perspectives on the topic for you: \nProf. Dr Ralf Schellhase\, Professor of Marketing and Academic Director of the MBA programme at Darmstadt University of Applied Sciences\, will kick things off with a keynote speech on trends in B2B marketing. \nAfterwards\, Ansgar Thilmann\, founder and CEO of the start-up HCP Sense\, will talk about his experiences in the field of B2B customer acquisition – what worked well\, what didn’t? \nYou want more? As always\, the open mic session will give you the opportunity to briefly present your ideas and questions and get support from the network! If possible\, please register in advance by sending an e-mail to events@cesah.com. \nWe look forward to seeing you! \nThe foundersXchange is a joint event series organised by: ATHENE Digital Hub Cybersecurity\, cesah GmbH Centrum für Satellitennavigation Hessen\, hessian.AI\, HIGHEST – Innovations- und Gründungszentrum der TU Darmstadt\, HUB31 – Technologie und Gründerzentrum Darmstadt and YUBIZZ! – start-up initiative of Darmstadt University of Applied Sciences. \nWe would like to thank StartHub Hessen for their continuous support of the event series\, as well as TIZ Darmstadt GmbH for their support of this edition of the foundersXchange. \nTravel advice:\nThe TIZ Darmstadt is only a few minutes’ walk from Darmstadt’s main railway station\, we recommend travelling by public transport. The event will take place on the 3rd floor of the TIZ Darmstadt – just follow the signs and the arrows on the floor.
URL:https://hessian.ai/event/partner-event-foundersxchange-darmstadt-trends-in-b2b-marketing/
LOCATION:TIZ\, Robert-Bosch-Straße 7\, Darmstadt\, Hessen\, Germany
ATTACH;FMTTYPE=image/jpeg:https://hessian.ai/wp-content/uploads/2025/05/fxc_version2.jpg
END:VEVENT
END:VCALENDAR