BEGIN:VCALENDAR
VERSION:2.0
PRODID:-//hessian.AI - ECPv6.15.18//NONSGML v1.0//EN
CALSCALE:GREGORIAN
METHOD:PUBLISH
X-ORIGINAL-URL:https://hessian.ai
X-WR-CALDESC:Events for hessian.AI
REFRESH-INTERVAL;VALUE=DURATION:PT1H
X-Robots-Tag:noindex
X-PUBLISHED-TTL:PT1H
BEGIN:VTIMEZONE
TZID:Europe/Berlin
BEGIN:DAYLIGHT
TZOFFSETFROM:+0100
TZOFFSETTO:+0200
TZNAME:CEST
DTSTART:20240331T010000
END:DAYLIGHT
BEGIN:STANDARD
TZOFFSETFROM:+0200
TZOFFSETTO:+0100
TZNAME:CET
DTSTART:20241027T010000
END:STANDARD
BEGIN:DAYLIGHT
TZOFFSETFROM:+0100
TZOFFSETTO:+0200
TZNAME:CEST
DTSTART:20250330T010000
END:DAYLIGHT
BEGIN:STANDARD
TZOFFSETFROM:+0200
TZOFFSETTO:+0100
TZNAME:CET
DTSTART:20251026T010000
END:STANDARD
BEGIN:DAYLIGHT
TZOFFSETFROM:+0100
TZOFFSETTO:+0200
TZNAME:CEST
DTSTART:20260329T010000
END:DAYLIGHT
BEGIN:STANDARD
TZOFFSETFROM:+0200
TZOFFSETTO:+0100
TZNAME:CET
DTSTART:20261025T010000
END:STANDARD
END:VTIMEZONE
BEGIN:VEVENT
DTSTART;TZID=Europe/Berlin:20250423T163000
DTEND;TZID=Europe/Berlin:20250423T220000
DTSTAMP:20260420T000717
CREATED:20250106T144501Z
LAST-MODIFIED:20250411T115749Z
UID:14231-1745425800-1745445600@hessian.ai
SUMMARY:AIConnects - Startup Competition Finale 2025
DESCRIPTION:The AI ecosystem in Hesse is constantly growing and hessian.AI is right at its center. After the massive success of last years – and the first ever “AIConnects” – we are right back at it. This format aims to bridge the gap between AI research and AI application\, supporting knowledge transfer and bringing the right people together to foster AI innovation. Our unique ecosystem is fueled by the diversity of its players\, spanning from world-class AI research talent to AI developers and AI applicants. That is why \n\nAIConnects research.\nAIConnects startups.\nAIConnects industry.\n\n\nHighlights \n\n\nMeet investors\, companies and AI experts who can advance your startup \n\n\nAI Startup Competition Finals – experience how early-stage startups pitch their AI innovations \n\n\nNetwork with the tech and AI community – find potential partners\, customers and co-founders \n\n\nKnowledge transfer & synergies – Connect with top researchers and developers \n\n\nPart of the international PyCon community of the conference PyCon DE & PyData 2025 – AIConnects opens doors to the global tech scene \n\n\n  \nProgram:\n4:30 PM: Admission & Registration \n5:00 PM: Introduction & Startup Pitches by AI Startup Competition Finalists \n6:00 PM: Fireside Chat with Kenza Ait Si Abbou & Accelerator RISING-Panel with leading AI experts \n7:00 PM: Award Ceremony for AI Startup Competition Winners \n7:30 PM: Networking\, drinks & food \n  \nThe event will be held in english. \nTo ensure your place is reserved\, please register right away. Places are limited\, first come\, first serve! \nWe look forward to an inspiring event that fosters innovation and collaboration in the AI community.
URL:https://hessian.ai/event/aiconnects-2025-startup-competition-finale/
LOCATION:Centralstation\, Im Carree\, Darmstadt\, Hessen\, 64283\, Germany
ATTACH;FMTTYPE=image/jpeg:https://hessian.ai/wp-content/uploads/2025/01/hA_AIConnects_Keyvisual_LinkedIn_1200x627_mitText-1.jpg
END:VEVENT
BEGIN:VEVENT
DTSTART;TZID=Europe/Berlin:20250422T093000
DTEND;TZID=Europe/Berlin:20250422T170000
DTSTAMP:20260420T000717
CREATED:20250313T161004Z
LAST-MODIFIED:20250409T134643Z
UID:15597-1745314200-1745341200@hessian.ai
SUMMARY:Sprint Projects at PyConDE & PyData 2025
DESCRIPTION:#Motivation Speech\nYou want to get to know open-source projects on AI & ML? Contribute to a hands-on coding session and become part of an active community? hessian.AI together with PyConDE & PyData is hosting development sprints. Sprints provide a unique opportunity for maintainers and contributors to collaborate\, share knowledge\, and push projects forward in a focused environment. Whether you’re making your first pull request or you’re a seasoned contributor\, you’re welcome to join.\nReady to run? 🏃‍➡️🏃‍♂️‍➡️ \n#10 Sprints at Start Line\nNatural Language Processing · Synthetic Data Generation · Numerical Optimization · LLM Agent Memory · Reinforcement Learning · Conversation Tracker · Research Data Management · 3D Meeting World · Visualizing High Dimension Data · Urban Climate AI \n*No PyCon ticket is required but registration is mandatory. Please follow the sign-up button.
URL:https://hessian.ai/event/sprint-projects-at-pyconde-pydata/
LOCATION:Universitäts- und Landesbibliothek (ULB) Stadtmitte\, Magdalenenstraße 8\, Darmstadt\, 64289\, Germany
ATTACH;FMTTYPE=image/jpeg:https://hessian.ai/wp-content/uploads/2025/03/2025-04-22-PyCon-Sprint-Event-1.jpg
END:VEVENT
END:VCALENDAR